Package: BioCor Version: 1.32.0 Command: /home/biocbuild/R/R/bin/R CMD INSTALL BioCor StartedAt: 2025-10-02 20:44:19 -0000 (Thu, 02 Oct 2025) EndedAt: 2025-10-02 20:44:47 -0000 (Thu, 02 Oct 2025) EllapsedTime: 27.9 seconds RetCode: 0 Status: OK