Package: BioCor Version: 1.32.0 Command: /home/biocbuild/R/R/bin/R CMD build --keep-empty-dirs --no-resave-data BioCor StartedAt: 2025-10-02 23:05:21 -0000 (Thu, 02 Oct 2025) EndedAt: 2025-10-02 23:12:26 -0000 (Thu, 02 Oct 2025) EllapsedTime: 425.1 seconds RetCode: 0 Status: OK PackageFile: BioCor_1.32.0.tar.gz PackageFileSize: 1.549 MiB