Package: BioCor Version: 1.32.0 Command: /Library/Frameworks/R.framework/Resources/bin/R CMD INSTALL BioCor StartedAt: 2025-10-13 15:52:42 -0400 (Mon, 13 Oct 2025) EndedAt: 2025-10-13 15:53:05 -0400 (Mon, 13 Oct 2025) EllapsedTime: 22.5 seconds RetCode: 0 Status: OK