Package: BioCor Version: 1.32.0 Command: /Library/Frameworks/R.framework/Resources/bin/R CMD build --keep-empty-dirs --no-resave-data BioCor StartedAt: 2025-10-13 19:59:44 -0400 (Mon, 13 Oct 2025) EndedAt: 2025-10-13 20:04:00 -0400 (Mon, 13 Oct 2025) EllapsedTime: 256.5 seconds RetCode: 0 Status: OK PackageFile: BioCor_1.32.0.tar.gz PackageFileSize: 1.581 MiB