Package: BioCor Version: 1.32.0 Command: rm -rf BioCor.buildbin-libdir && mkdir BioCor.buildbin-libdir && /Users/biocbuild/BBS/utils/build-universal.sh BioCor_1.32.0.tar.gz /Library/Frameworks/R.framework/Resources/bin/R BioCor.buildbin-libdir StartedAt: 2025-10-15 17:36:02 -0400 (Wed, 15 Oct 2025) EndedAt: 2025-10-15 17:36:28 -0400 (Wed, 15 Oct 2025) EllapsedTime: 26.2 seconds RetCode: 0 Status: OK PackageFile: BioCor_1.32.0.tgz PackageFileSize: 1.696 MiB