Package: BioCor Version: 1.34.0 Maintainer: LluĂ­s Revilla Sancho MaintainerEmail: lluis.revilla at gmail.com git_url: https://git.bioconductor.org/packages/BioCor git_branch: RELEASE_3_22 git_last_commit: 252c6ff git_last_commit_date: 2025-10-29 10:37:26 -0400 (Wed, 29 Oct 2025)