Package: BioCartaImage Version: 1.8.0 Command: /home/biocbuild/R/R/bin/R CMD INSTALL BioCartaImage StartedAt: 2025-11-13 21:03:45 -0000 (Thu, 13 Nov 2025) EndedAt: 2025-11-13 21:04:23 -0000 (Thu, 13 Nov 2025) EllapsedTime: 37.8 seconds RetCode: 0 Status: OK