Package: BioCartaImage Version: 1.8.0 Command: /home/biocbuild/R/R/bin/R CMD build --keep-empty-dirs --no-resave-data BioCartaImage StartedAt: 2025-11-13 23:59:24 -0000 (Thu, 13 Nov 2025) EndedAt: 2025-11-13 23:59:39 -0000 (Thu, 13 Nov 2025) EllapsedTime: 15.0 seconds RetCode: 0 Status: OK PackageFile: BioCartaImage_1.8.0.tar.gz PackageFileSize: 1.994 MiB