Package: BioCartaImage Version: 1.8.0 Command: /home/biocbuild/bbs-3.22-bioc/R/bin/R CMD build --keep-empty-dirs --no-resave-data --md5 BioCartaImage StartedAt: 2025-11-13 16:30:15 -0500 (Thu, 13 Nov 2025) EndedAt: 2025-11-13 16:30:27 -0500 (Thu, 13 Nov 2025) EllapsedTime: 12.0 seconds RetCode: 0 Status: OK PackageFile: BioCartaImage_1.8.0.tar.gz PackageFileSize: 3.629 MiB