Package: BindingSiteFinder Version: 2.8.0 Command: /Library/Frameworks/R.framework/Resources/bin/R CMD INSTALL BindingSiteFinder StartedAt: 2025-10-31 15:43:24 -0400 (Fri, 31 Oct 2025) EndedAt: 2025-10-31 15:44:28 -0400 (Fri, 31 Oct 2025) EllapsedTime: 64.2 seconds RetCode: 0 Status: OK