Package: BindingSiteFinder Version: 2.8.0 Command: /Library/Frameworks/R.framework/Resources/bin/R CMD build --keep-empty-dirs --no-resave-data BindingSiteFinder StartedAt: 2025-10-31 16:16:46 -0400 (Fri, 31 Oct 2025) EndedAt: 2025-10-31 16:20:11 -0400 (Fri, 31 Oct 2025) EllapsedTime: 204.3 seconds RetCode: 0 Status: OK PackageFile: BindingSiteFinder_2.8.0.tar.gz PackageFileSize: 2.771 MiB