Package: BindingSiteFinder Version: 2.8.0 Command: rm -rf BindingSiteFinder.buildbin-libdir && mkdir BindingSiteFinder.buildbin-libdir && /Users/biocbuild/BBS/utils/build-universal.sh BindingSiteFinder_2.8.0.tar.gz /Library/Frameworks/R.framework/Resources/bin/R BindingSiteFinder.buildbin-libdir StartedAt: 2025-11-01 01:23:38 -0400 (Sat, 01 Nov 2025) EndedAt: 2025-11-01 01:24:44 -0400 (Sat, 01 Nov 2025) EllapsedTime: 66.4 seconds RetCode: 0 Status: OK PackageFile: BindingSiteFinder_2.8.0.tgz PackageFileSize: 3.18 MiB