Package: BindingSiteFinder Version: 2.6.0 Command: /home/biocbuild/R/R/bin/R CMD INSTALL BindingSiteFinder StartedAt: 2025-10-09 20:54:38 -0000 (Thu, 09 Oct 2025) EndedAt: 2025-10-09 20:55:42 -0000 (Thu, 09 Oct 2025) EllapsedTime: 64.1 seconds RetCode: 0 Status: OK