Package: BindingSiteFinder Version: 2.6.0 Command: /home/biocbuild/R/R/bin/R CMD build --keep-empty-dirs --no-resave-data BindingSiteFinder StartedAt: 2025-10-09 23:02:31 -0000 (Thu, 09 Oct 2025) EndedAt: 2025-10-09 23:05:09 -0000 (Thu, 09 Oct 2025) EllapsedTime: 158.0 seconds RetCode: 1 Status: ERROR PackageFile: None PackageFileSize: NA