Package: BicARE Version: 1.68.0 Command: /home/biocbuild/bbs-3.22-bioc/R/bin/R CMD build --keep-empty-dirs --no-resave-data --md5 BicARE StartedAt: 2025-11-06 16:28:31 -0500 (Thu, 06 Nov 2025) EndedAt: 2025-11-06 16:30:47 -0500 (Thu, 06 Nov 2025) EllapsedTime: 136.1 seconds RetCode: 0 Status: OK PackageFile: BicARE_1.68.0.tar.gz PackageFileSize: 461.3 KiB