Package: BiSeq Version: 1.50.0 Command: /home/biocbuild/R/R/bin/R CMD build --keep-empty-dirs --no-resave-data BiSeq StartedAt: 2025-11-14 00:06:09 -0000 (Fri, 14 Nov 2025) EndedAt: 2025-11-14 00:08:43 -0000 (Fri, 14 Nov 2025) EllapsedTime: 154.0 seconds RetCode: 0 Status: OK PackageFile: BiSeq_1.50.0.tar.gz PackageFileSize: 909.1 KiB