Package: BiSeq Version: 1.50.0 Command: /home/biocbuild/bbs-3.22-bioc/R/bin/R CMD INSTALL BiSeq StartedAt: 2025-11-11 15:33:45 -0500 (Tue, 11 Nov 2025) EndedAt: 2025-11-11 15:34:25 -0500 (Tue, 11 Nov 2025) EllapsedTime: 40.3 seconds RetCode: 0 Status: OK