Package: BiSeq Version: 1.50.0 Command: /home/biocbuild/bbs-3.22-bioc/R/bin/R CMD check --install=check:BiSeq.install-out.txt --library=/home/biocbuild/bbs-3.22-bioc/R/site-library --timings BiSeq_1.50.0.tar.gz StartedAt: 2025-11-11 21:41:32 -0500 (Tue, 11 Nov 2025) EndedAt: 2025-11-11 21:47:49 -0500 (Tue, 11 Nov 2025) EllapsedTime: 377.3 seconds RetCode: 0 Status: OK CheckDir: BiSeq.Rcheck Warnings: 0