Package: BiSeq Version: 1.48.1 Command: /home/biocbuild/bbs-3.21-bioc/R/bin/R CMD INSTALL BiSeq StartedAt: 2025-10-08 15:29:10 -0400 (Wed, 08 Oct 2025) EndedAt: 2025-10-08 15:29:50 -0400 (Wed, 08 Oct 2025) EllapsedTime: 40.0 seconds RetCode: 0 Status: OK