Package: BiSeq Version: 1.48.1 Command: /Library/Frameworks/R.framework/Resources/bin/R CMD INSTALL BiSeq StartedAt: 2025-10-06 16:43:23 -0400 (Mon, 06 Oct 2025) EndedAt: 2025-10-06 16:44:12 -0400 (Mon, 06 Oct 2025) EllapsedTime: 49.3 seconds RetCode: 0 Status: OK