Package: BiSeq Version: 1.48.1 Command: /Library/Frameworks/R.framework/Resources/bin/R CMD build --keep-empty-dirs --no-resave-data BiSeq StartedAt: 2025-10-06 20:22:34 -0400 (Mon, 06 Oct 2025) EndedAt: 2025-10-06 20:24:55 -0400 (Mon, 06 Oct 2025) EllapsedTime: 140.5 seconds RetCode: 0 Status: OK PackageFile: BiSeq_1.48.1.tar.gz PackageFileSize: 915.3 KiB