Package: BiSeq Version: 1.48.1 Command: rm -rf BiSeq.buildbin-libdir && mkdir BiSeq.buildbin-libdir && /Users/biocbuild/BBS/utils/build-universal.sh BiSeq_1.48.1.tar.gz /Library/Frameworks/R.framework/Resources/bin/R BiSeq.buildbin-libdir StartedAt: 2025-10-08 19:58:12 -0400 (Wed, 08 Oct 2025) EndedAt: 2025-10-08 19:59:07 -0400 (Wed, 08 Oct 2025) EllapsedTime: 55.2 seconds RetCode: 0 Status: OK PackageFile: BiSeq_1.48.1.tgz PackageFileSize: 1.158 MiB