Package: BiRewire Version: 3.41.0 Command: /home/biocbuild/bbs-3.22-bioc/R/bin/R CMD check --install=check:BiRewire.install-out.txt --library=/home/biocbuild/bbs-3.22-bioc/R/site-library --timings BiRewire_3.41.0.tar.gz StartedAt: 2025-10-12 21:35:51 -0400 (Sun, 12 Oct 2025) EndedAt: 2025-10-12 21:39:54 -0400 (Sun, 12 Oct 2025) EllapsedTime: 243.4 seconds RetCode: 0 Status: WARNINGS CheckDir: BiRewire.Rcheck Warnings: 1