Package: BiRewire Version: 3.42.0 Command: /home/biocbuild/bbs-3.22-bioc/R/bin/R CMD build --keep-empty-dirs --no-resave-data --md5 BiRewire StartedAt: 2025-11-11 16:36:45 -0500 (Tue, 11 Nov 2025) EndedAt: 2025-11-11 16:36:55 -0500 (Tue, 11 Nov 2025) EllapsedTime: 10.0 seconds RetCode: 1 Status: ERROR PackageFile: None PackageFileSize: NA