Package: BiRewire Version: 3.42.0 Command: /Library/Frameworks/R.framework/Resources/bin/R CMD INSTALL BiRewire StartedAt: 2025-11-03 15:12:17 -0500 (Mon, 03 Nov 2025) EndedAt: 2025-11-03 15:13:10 -0500 (Mon, 03 Nov 2025) EllapsedTime: 52.5 seconds RetCode: 0 Status: OK