Package: BiRewire Version: 3.40.0 Command: /home/biocbuild/R/R/bin/R CMD INSTALL BiRewire StartedAt: 2025-10-13 20:16:09 -0000 (Mon, 13 Oct 2025) EndedAt: 2025-10-13 20:16:40 -0000 (Mon, 13 Oct 2025) EllapsedTime: 31.0 seconds RetCode: 0 Status: OK