Package: BiRewire Version: 3.40.0 Command: /home/biocbuild/R/R/bin/R CMD build --keep-empty-dirs --no-resave-data BiRewire StartedAt: 2025-10-13 23:11:42 -0000 (Mon, 13 Oct 2025) EndedAt: 2025-10-13 23:13:13 -0000 (Mon, 13 Oct 2025) EllapsedTime: 91.0 seconds RetCode: 0 Status: OK PackageFile: BiRewire_3.40.0.tar.gz PackageFileSize: 716.7 KiB