Package: BiFET Version: 1.30.0 Command: /home/biocbuild/bbs-3.22-bioc/R/bin/R CMD INSTALL BiFET StartedAt: 2025-11-11 15:27:06 -0500 (Tue, 11 Nov 2025) EndedAt: 2025-11-11 15:27:13 -0500 (Tue, 11 Nov 2025) EllapsedTime: 7.3 seconds RetCode: 0 Status: OK