Package: BiFET Version: 1.28.0 Command: /home/biocbuild/R/R/bin/R CMD INSTALL BiFET StartedAt: 2025-10-13 20:29:43 -0000 (Mon, 13 Oct 2025) EndedAt: 2025-10-13 20:29:55 -0000 (Mon, 13 Oct 2025) EllapsedTime: 12.3 seconds RetCode: 0 Status: OK