Package: BgeeDB Version: 2.36.0 Command: /home/biocbuild/bbs-3.22-bioc/R/bin/R CMD build --keep-empty-dirs --no-resave-data --md5 BgeeDB StartedAt: 2025-11-11 16:31:06 -0500 (Tue, 11 Nov 2025) EndedAt: 2025-11-11 16:40:02 -0500 (Tue, 11 Nov 2025) EllapsedTime: 535.5 seconds RetCode: 0 Status: OK PackageFile: BgeeDB_2.36.0.tar.gz PackageFileSize: 108.5 KiB