Package: BgeeDB Version: 2.36.0 Command: /Library/Frameworks/R.framework/Resources/bin/R CMD INSTALL BgeeDB StartedAt: 2025-11-03 15:40:22 -0500 (Mon, 03 Nov 2025) EndedAt: 2025-11-03 15:41:12 -0500 (Mon, 03 Nov 2025) EllapsedTime: 50.6 seconds RetCode: 0 Status: OK