Package: BgeeDB Version: 2.36.0 Command: /Library/Frameworks/R.framework/Resources/bin/R CMD build --keep-empty-dirs --no-resave-data BgeeDB StartedAt: 2025-11-03 16:12:02 -0500 (Mon, 03 Nov 2025) EndedAt: 2025-11-03 16:18:52 -0500 (Mon, 03 Nov 2025) EllapsedTime: 410.4 seconds RetCode: 0 Status: OK PackageFile: BgeeDB_2.36.0.tar.gz PackageFileSize: 107.1 KiB