Package: BgeeDB Version: 2.36.0 Command: rm -rf BgeeDB.buildbin-libdir && mkdir BgeeDB.buildbin-libdir && /Users/biocbuild/BBS/utils/build-universal.sh BgeeDB_2.36.0.tar.gz /Library/Frameworks/R.framework/Resources/bin/R BgeeDB.buildbin-libdir StartedAt: 2025-11-04 01:29:18 -0500 (Tue, 04 Nov 2025) EndedAt: 2025-11-04 01:30:14 -0500 (Tue, 04 Nov 2025) EllapsedTime: 56.0 seconds RetCode: 0 Status: OK PackageFile: BgeeDB_2.36.0.tgz PackageFileSize: 370.7 KiB