Package: BgeeDB Version: 2.34.0 Command: /home/biocbuild/R/R/bin/R CMD build --keep-empty-dirs --no-resave-data BgeeDB StartedAt: 2025-10-13 23:00:45 -0000 (Mon, 13 Oct 2025) EndedAt: 2025-10-13 23:10:14 -0000 (Mon, 13 Oct 2025) EllapsedTime: 569.2 seconds RetCode: 0 Status: OK PackageFile: BgeeDB_2.34.0.tar.gz PackageFileSize: 107.4 KiB