Package: BgeeDB Version: 2.34.0 Command: rm -rf BgeeDB.buildbin-libdir && mkdir BgeeDB.buildbin-libdir && /Users/biocbuild/BBS/utils/build-universal.sh BgeeDB_2.34.0.tar.gz /Library/Frameworks/R.framework/Resources/bin/R BgeeDB.buildbin-libdir StartedAt: 2025-04-21 22:27:20 -0400 (Mon, 21 Apr 2025) EndedAt: 2025-04-21 22:27:38 -0400 (Mon, 21 Apr 2025) EllapsedTime: 17.4 seconds RetCode: 0 Status: OK PackageFile: BgeeDB_2.34.0.tgz PackageFileSize: 370.7 KiB