Package: BgeeCall Version: 1.26.0 Command: /home/biocbuild/bbs-3.22-bioc/R/bin/R CMD INSTALL BgeeCall StartedAt: 2025-11-11 15:48:13 -0500 (Tue, 11 Nov 2025) EndedAt: 2025-11-11 15:48:56 -0500 (Tue, 11 Nov 2025) EllapsedTime: 42.6 seconds RetCode: 0 Status: OK