Package: BgeeCall Version: 1.26.0 Command: /home/biocbuild/bbs-3.22-bioc/R/bin/R CMD check --install=check:BgeeCall.install-out.txt --library=/home/biocbuild/bbs-3.22-bioc/R/site-library --timings BgeeCall_1.26.0.tar.gz StartedAt: 2025-11-14 21:33:14 -0500 (Fri, 14 Nov 2025) EndedAt: 2025-11-14 21:39:33 -0500 (Fri, 14 Nov 2025) EllapsedTime: 379.4 seconds RetCode: 0 Status: OK CheckDir: BgeeCall.Rcheck Warnings: 0