Package: BgeeCall Version: 1.26.0 Command: /home/biocbuild/bbs-3.22-bioc/R/bin/R CMD build --keep-empty-dirs --no-resave-data --md5 BgeeCall StartedAt: 2025-11-11 16:30:40 -0500 (Tue, 11 Nov 2025) EndedAt: 2025-11-11 16:32:54 -0500 (Tue, 11 Nov 2025) EllapsedTime: 134.1 seconds RetCode: 0 Status: OK PackageFile: BgeeCall_1.26.0.tar.gz PackageFileSize: 5.681 MiB