Package: BgeeCall Version: 1.26.0 Command: /Library/Frameworks/R.framework/Resources/bin/R CMD build --keep-empty-dirs --no-resave-data BgeeCall StartedAt: 2025-11-03 16:11:57 -0500 (Mon, 03 Nov 2025) EndedAt: 2025-11-03 16:13:59 -0500 (Mon, 03 Nov 2025) EllapsedTime: 121.3 seconds RetCode: 0 Status: OK PackageFile: BgeeCall_1.26.0.tar.gz PackageFileSize: 5.679 MiB