Package: BgeeCall Version: 1.26.0 Command: rm -rf BgeeCall.buildbin-libdir && mkdir BgeeCall.buildbin-libdir && /Users/biocbuild/BBS/utils/build-universal.sh BgeeCall_1.26.0.tar.gz /Library/Frameworks/R.framework/Resources/bin/R BgeeCall.buildbin-libdir StartedAt: 2025-11-04 01:29:18 -0500 (Tue, 04 Nov 2025) EndedAt: 2025-11-04 01:30:22 -0500 (Tue, 04 Nov 2025) EllapsedTime: 64.1 seconds RetCode: 0 Status: OK PackageFile: BgeeCall_1.26.0.tgz PackageFileSize: 6.008 MiB