Package: BgeeCall Version: 1.24.1 Command: /home/biocbuild/R/R/bin/R CMD INSTALL BgeeCall StartedAt: 2025-10-13 20:58:09 -0000 (Mon, 13 Oct 2025) EndedAt: 2025-10-13 20:59:11 -0000 (Mon, 13 Oct 2025) EllapsedTime: 61.9 seconds RetCode: 0 Status: OK