Package: BgeeCall Version: 1.24.1 Command: /home/biocbuild/R/R/bin/R CMD build --keep-empty-dirs --no-resave-data BgeeCall StartedAt: 2025-10-13 23:00:37 -0000 (Mon, 13 Oct 2025) EndedAt: 2025-10-13 23:03:26 -0000 (Mon, 13 Oct 2025) EllapsedTime: 169.0 seconds RetCode: 0 Status: OK PackageFile: BgeeCall_1.24.1.tar.gz PackageFileSize: 5.679 MiB