Package: BeadDataPackR Version: 1.62.0 Command: /home/biocbuild/R/R/bin/R CMD INSTALL BeadDataPackR StartedAt: 2025-11-13 21:08:15 -0000 (Thu, 13 Nov 2025) EndedAt: 2025-11-13 21:09:43 -0000 (Thu, 13 Nov 2025) EllapsedTime: 88.1 seconds RetCode: 0 Status: OK