Package: BeadDataPackR Version: 1.62.0 Command: /home/biocbuild/R/R/bin/R CMD build --keep-empty-dirs --no-resave-data BeadDataPackR StartedAt: 2025-11-10 23:50:50 -0000 (Mon, 10 Nov 2025) EndedAt: 2025-11-10 23:50:57 -0000 (Mon, 10 Nov 2025) EllapsedTime: 7.0 seconds RetCode: 0 Status: OK PackageFile: BeadDataPackR_1.62.0.tar.gz PackageFileSize: 229.5 KiB