Package: BeadDataPackR Version: 1.62.0 Command: /home/biocbuild/bbs-3.22-bioc/R/bin/R CMD INSTALL BeadDataPackR StartedAt: 2025-11-11 15:10:06 -0500 (Tue, 11 Nov 2025) EndedAt: 2025-11-11 15:10:49 -0500 (Tue, 11 Nov 2025) EllapsedTime: 43.2 seconds RetCode: 0 Status: OK