Package: BeadDataPackR Version: 1.60.0 Command: /Library/Frameworks/R.framework/Resources/bin/R CMD INSTALL BeadDataPackR StartedAt: 2025-10-13 15:11:37 -0400 (Mon, 13 Oct 2025) EndedAt: 2025-10-13 15:12:49 -0400 (Mon, 13 Oct 2025) EllapsedTime: 72.0 seconds RetCode: 0 Status: OK