Package: BeadDataPackR Version: 1.60.0 Command: /Library/Frameworks/R.framework/Resources/bin/R CMD INSTALL BeadDataPackR StartedAt: 2025-09-25 15:15:37 -0400 (Thu, 25 Sep 2025) EndedAt: 2025-09-25 15:16:05 -0400 (Thu, 25 Sep 2025) EllapsedTime: 28.1 seconds RetCode: 0 Status: OK