Package: BeadDataPackR Version: 1.60.0 Command: /Library/Frameworks/R.framework/Resources/bin/R CMD build --keep-empty-dirs --no-resave-data BeadDataPackR StartedAt: 2025-09-25 19:47:22 -0400 (Thu, 25 Sep 2025) EndedAt: 2025-09-25 19:47:35 -0400 (Thu, 25 Sep 2025) EllapsedTime: 13.4 seconds RetCode: 0 Status: OK PackageFile: BeadDataPackR_1.60.0.tar.gz PackageFileSize: 235.7 KiB