Package: BayesSpace Version: 1.20.0 Command: /home/biocbuild/bbs-3.22-bioc/R/bin/R CMD INSTALL BayesSpace StartedAt: 2025-11-13 15:59:35 -0500 (Thu, 13 Nov 2025) EndedAt: 2025-11-13 16:00:47 -0500 (Thu, 13 Nov 2025) EllapsedTime: 71.8 seconds RetCode: 0 Status: OK