Package: BayesSpace Version: 1.20.0 Command: /home/biocbuild/bbs-3.22-bioc/R/bin/R CMD build --keep-empty-dirs --no-resave-data --md5 BayesSpace StartedAt: 2025-11-13 16:23:42 -0500 (Thu, 13 Nov 2025) EndedAt: 2025-11-13 16:26:15 -0500 (Thu, 13 Nov 2025) EllapsedTime: 153.1 seconds RetCode: 0 Status: OK PackageFile: BayesSpace_1.20.0.tar.gz PackageFileSize: 3.072 MiB